BEGIN:VCALENDAR
VERSION:2.0
PRODID:-//Tukios.com/
BEGIN:VEVENT
UID:d791723d-da00-404d-b1aa-bd09ba9d8b6d@www.whitcombfuneralhome.com
DTSTAMP:20260422T185738Z
DTSTART:20260504T150000Z
DTEND:20260504T160000Z
SUMMARY:Mass
DESCRIPTION:
URL:https://www.whitcombfuneralhome.com/obituaries/yvette-zampieri
LOCATION:St. Monica’s Parish 79 Summer Street  Barre VT 05641
GEO:44.2016269;-72.5043495
END:VEVENT
END:VCALENDAR