BEGIN:VCALENDAR
VERSION:2.0
PRODID:-//Tukios.com/
BEGIN:VEVENT
UID:b6866853-c6ed-4022-a53d-272f183e7a8a@www.whitcombfuneralhome.com
DTSTAMP:20260421T174527Z
DTSTART:20260424T150000Z
DTEND:20260424T160000Z
SUMMARY:Mass
DESCRIPTION:
URL:https://www.whitcombfuneralhome.com/obituaries/mary-zagroba
LOCATION:St. Monica Catholic Church 79 Summer Street  Barre VT 05641
GEO:44.2016269;-72.5043495
END:VEVENT
END:VCALENDAR