BEGIN:VCALENDAR
VERSION:2.0
PRODID:-//Tukios.com/
BEGIN:VEVENT
UID:e4369f1a-eb88-4e19-b3f7-8f5115dc546d@www.whitcombfuneralhome.com
DTSTAMP:20260426T004841Z
DTSTART:20260517T173000Z
DTEND:20260517T183000Z
SUMMARY:Graveside Service
DESCRIPTION:
URL:https://www.whitcombfuneralhome.com/obituaries/dennis-searles
LOCATION:Hope Cemetery 262 East Montpelier Road  Barre VT 05641
GEO:44.2107188;-72.4994208
END:VEVENT
END:VCALENDAR